BEGIN:VCALENDAR
VERSION:2.0
PRODID:-//ChamberMaster//Event Calendar 2.0//EN
METHOD:PUBLISH
X-PUBLISHED-TTL:P3D
REFRESH-INTERVAL:P3D
CALSCALE:GREGORIAN
BEGIN:VEVENT
DTSTART;VALUE=DATE:20120216
DTEND;VALUE=DATE:20120217
TRANSP:TRANSPARENT
X-MICROSOFT-CDO-ALLDAYEVENT:TRUE
SUMMARY:Basic Firearm Safety Class
DESCRIPTION:Basic Firearm Safety Class\n\noffered by 4-H Shooting Club for Students 7 - 12 Years of Age\n\n\n\nClass Dates will be February 12\, 16\, 19\, 23\, 26 and March 1\n\n\n\nSunday Classes begin at 5 pm and Thursday Classes starting at 6 pm\n\n\n\nBasic Safety rules and safe gun handling will be taught during the course.  The Daisy 10 Lesson Guide and the Daisy 499 BB gun will be used for the class.  No personal firearms will be allowed.\n\n\n\nEach student must have an adult present at all times.\n\n\n\nInstructors will be 4-H and NRA certified.\n\n\n\nCost for the course is $15 per student.\n\n\n\nFor more information or to register for the course\, contact the Gage County Extension office at 402-223-1384.
X-ALT-DESC;FMTTYPE=text/html:Basic Firearm Safety Class<br />\noffered by 4-H Shooting Club for Students 7 - 12 Years of Age<br />\n<br />\nClass Dates will be February 12\, 16\, 19\, 23\, 26 and March 1<br />\n<br />\nSunday Classes begin at 5 pm and Thursday Classes starting at 6 pm<br />\n<br />\nBasic Safety rules and safe gun handling will be taught during the course.&nbsp\; The Daisy 10 Lesson Guide and the Daisy 499 BB gun will be used for the class.&nbsp\; No personal firearms will be allowed.<br />\n<br />\nEach student must have an adult present at all times.<br />\n<br />\nInstructors will be 4-H and NRA certified.<br />\n<br />\nCost for the course is $15 per student.<br />\n<br />\nFor more information or to register for the course\, contact the Gage County Extension office at 402-223-1384.
LOCATION:
UID:e.41.5315
SEQUENCE:3
DTSTAMP:20260422T185052Z
URL:https://business.beatricechamber.com/events/details/basic-firearm-safety-class-02-16-2012-5315
END:VEVENT

END:VCALENDAR
