BEGIN:VCALENDAR
VERSION:2.0
PRODID:-//ChamberMaster//Event Calendar 2.0//EN
METHOD:PUBLISH
X-PUBLISHED-TTL:P3D
REFRESH-INTERVAL:P3D
CALSCALE:GREGORIAN
BEGIN:VEVENT
DTSTART;VALUE=DATE:20101101
DTEND;VALUE=DATE:20101102
TRANSP:TRANSPARENT
X-MICROSOFT-CDO-ALLDAYEVENT:TRUE
SUMMARY:Basic Firearm Safety Class
DESCRIPTION:Basic Firearm Safety Class\n\n\n\n6 p.m.  on\n\nMondays:  October 4\, 11\, 18\, 25 & November 1\n\n\n\nSponsor:  Homestead 4-H Shooting Club for students 7-11  years of age.\n\n\n\nBasic Safety Rules and Safe Gun Handling with Daily 10 Lesson Guide and the Daily 499 BB gun used for the class.\n\n\n\nNO PERSONAL FIREARMS!\n\n\n\nEach student must have an adult present at all times.  Call the Gage County Extension Office at 402-223-1384 for more information and to register for the class. \n\n\n\nCost:  $15 per student.
X-ALT-DESC;FMTTYPE=text/html:<strong><span style="font-size: 14px">Basic Firearm Safety Class<br />\n<br />\n6 p.m.&nbsp\; on<br />\nMondays:&nbsp\; October 4\, 11\, 18\, 25 &amp\; November 1</span></strong><br />\n<br />\nSponsor:&nbsp\; Homestead 4-H Shooting Club for students 7-11&nbsp\; years of age.<br />\n<br />\nBasic Safety Rules and Safe Gun Handling with Daily 10 Lesson Guide and the Daily 499 BB gun used for the class.<br />\n<br />\nNO PERSONAL FIREARMS!<br />\n<br />\nEach student must have an adult present at all times.&nbsp\; Call the Gage County Extension Office at 402-223-1384 for more information and to register for the class.&nbsp\;<br />\n<br />\nCost:&nbsp\; $15 per student.
LOCATION:
UID:e.41.2662
SEQUENCE:3
DTSTAMP:20260425T031245Z
URL:https://business.beatricechamber.com/events/details/basic-firearm-safety-class-11-01-2010-2662
END:VEVENT

END:VCALENDAR
