BEGIN:VCALENDAR
VERSION:2.0
PRODID:-//ChamberMaster//Event Calendar 2.0//EN
METHOD:PUBLISH
X-PUBLISHED-TTL:P3D
REFRESH-INTERVAL:P3D
CALSCALE:GREGORIAN
BEGIN:VEVENT
DTSTART:20090603T123000Z
DTEND:20090603T133000Z
X-MICROSOFT-CDO-ALLDAYEVENT:FALSE
SUMMARY:BBH - Deines Pharmacy
DESCRIPTION:Join us at Business Before Hours!Stop in for an hour or a few minutes.  \n\nEnjoy a light breakfast\, say Hello and learn about this Chamber Member!!Start your day by networking with other Chamber Members!
X-ALT-DESC;FMTTYPE=text/html:<div>Join us at Business Before Hours!</div><div>Stop in for an hour or a few minutes.&nbsp\;&nbsp\;<br /><br />Enjoy a light breakfast\, say Hello and learn about this Chamber Member!!</div><div>Start your day by networking with other Chamber Members!</div>
LOCATION:Deines PharmacyTake a tour of our new building910 Court St
UID:e.41.1211
SEQUENCE:3
DTSTAMP:20260426T042604Z
URL:https://business.beatricechamber.com/events/details/bbh-deines-pharmacy-06-03-2009-1211
END:VEVENT

END:VCALENDAR
