BEGIN:VCALENDAR
VERSION:2.0
PRODID:-//ChamberMaster//Event Calendar 2.0//EN
METHOD:PUBLISH
X-PUBLISHED-TTL:P3D
REFRESH-INTERVAL:P3D
CALSCALE:GREGORIAN
BEGIN:VEVENT
DTSTART:20090902T123000Z
DTEND:20090902T133000Z
X-MICROSOFT-CDO-ALLDAYEVENT:FALSE
SUMMARY:BBH - Good Samaritan
DESCRIPTION:Join us at Business Before Hours!Stop in for an hour or a few minutes.  \n\nEnjoy a light breakfast\, say Hello and learn about this Chamber Member!!Start your day by networking with other Chamber Members!
X-ALT-DESC;FMTTYPE=text/html:<div>Join us at Business Before Hours!</div><div>Stop in for an hour or a few minutes.&nbsp\;&nbsp\;<br /><br />Enjoy a light breakfast\, say Hello and learn about this Chamber Member!!</div><div>Start your day by networking with other Chamber Members!</div>
LOCATION:Good Samaritan Society - Samaritan Springs600 S 22nd Street Outdoor BreakfastGrace Gardens - New Therapeutic Garden
UID:e.41.1394
SEQUENCE:3
DTSTAMP:20260425T233020Z
URL:https://business.beatricechamber.com/events/details/bbh-good-samaritan-09-02-2009-1394
END:VEVENT

END:VCALENDAR
