BEGIN:VCALENDAR
VERSION:2.0
PRODID:-//ChamberMaster//Event Calendar 2.0//EN
METHOD:PUBLISH
X-PUBLISHED-TTL:P3D
REFRESH-INTERVAL:P3D
CALSCALE:GREGORIAN
BEGIN:VEVENT
DTSTART:20110428T220000Z
DTEND:20110428T220000Z
X-MICROSOFT-CDO-ALLDAYEVENT:FALSE
SUMMARY:BBQ Benefit for CCFA @ The Rail
DESCRIPTION:A Van?s BBQ Chicken/Ribs benefit for CCFA (Crohn?s & Colitis Foundation of America) is planned for Thursday\, April 28 starting at 5:00p.m at The Rail\, 212 Court Street\, Beatrice.   Meals will be available for $8.00 for dine in or carryout.  The meal is sponsored by the family of Jonathon Schleufer\, a 12 year old with both diseases.  All proceeds for the benefit stay with the local CCFA Chapter for seminars\, education and research to find a cure for these diseases.   Jonathon will be making his third walk for CCFA on Saturday\, May 7 at Holmes Lake Park\, Lincoln\, NE.  To register for the walk go to www.cctakesteps.org or call Julie @ 402-223-8104
X-ALT-DESC;FMTTYPE=text/html:A Van?s BBQ Chicken/Ribs benefit for CCFA (Crohn?s &amp\; Colitis Foundation of America) is planned for Thursday\, April 28 starting at 5:00p.m at The Rail\, 212 Court Street\, Beatrice.   Meals will be available for $8.00 for dine in or carryout.  The meal is sponsored by the family of Jonathon Schleufer\, a 12 year old with both diseases.  All proceeds for the benefit stay with the local CCFA Chapter for seminars\, education and research to find a cure for these diseases.   Jonathon will be making his third walk for CCFA on Saturday\, May 7 at Holmes Lake Park\, Lincoln\, NE.  To register for the walk go to www.cctakesteps.org or call Julie @ 402-223-8104
LOCATION:The Rail
UID:e.41.4569
SEQUENCE:3
DTSTAMP:20260424T195138Z
URL:https://business.beatricechamber.com/events/details/bbq-benefit-for-ccfa-the-rail-04-28-2011-4569
END:VEVENT

END:VCALENDAR
