BEGIN:VCALENDAR
VERSION:2.0
PRODID:-//ChamberMaster//Event Calendar 2.0//EN
METHOD:PUBLISH
X-PUBLISHED-TTL:P3D
REFRESH-INTERVAL:P3D
CALSCALE:GREGORIAN
BEGIN:VEVENT
DTSTART:20110213T170000Z
DTEND:20110213T190000Z
X-MICROSOFT-CDO-ALLDAYEVENT:FALSE
SUMMARY:BBQ Benefit - Wymore American Legion
DESCRIPTION:Wymore American Legion Club BBQ Buffet\n\n\n\nSunday\, February 13\n\n11 a.m. - 1 p.m.\n\n\n\nBBQ riblets and roast beef buffet\n\n\n\nThe meal is a donation of $8 for adults\, $4.50 for children under age 12.  Carry-out is available.
X-ALT-DESC;FMTTYPE=text/html:Wymore American Legion Club BBQ Buffet<br />\n<br />\nSunday\, February 13<br />\n11 a.m. - 1 p.m.<br />\n<br />\nBBQ riblets and roast beef buffet<br />\n<br />\nThe meal is a donation of $8 for adults\, $4.50 for children under age 12.&nbsp\; Carry-out is available.
LOCATION:
UID:e.41.4041
SEQUENCE:3
DTSTAMP:20260424T225754Z
URL:https://business.beatricechamber.com/events/details/bbq-benefit-wymore-american-legion-02-13-2011-4041
END:VEVENT

END:VCALENDAR
