BEGIN:VCALENDAR
VERSION:2.0
PRODID:-//ChamberMaster//Event Calendar 2.0//EN
METHOD:PUBLISH
X-PUBLISHED-TTL:P3D
REFRESH-INTERVAL:P3D
CALSCALE:GREGORIAN
BEGIN:VEVENT
DTSTART;VALUE=DATE:20110616
DTEND;VALUE=DATE:20110617
TRANSP:TRANSPARENT
X-MICROSOFT-CDO-ALLDAYEVENT:TRUE
SUMMARY:BBQ Downtown Beatrice
DESCRIPTION:Enjoy hometown BBQ in downtown Beatrice at local restaurants!
X-ALT-DESC;FMTTYPE=text/html:Enjoy hometown BBQ in downtown Beatrice at local restaurants!
LOCATION:
UID:e.41.4873
SEQUENCE:3
DTSTAMP:20260424T165411Z
URL:https://business.beatricechamber.com/events/details/bbq-downtown-beatrice-06-16-2011-4873
END:VEVENT

END:VCALENDAR
