BEGIN:VCALENDAR
VERSION:2.0
PRODID:-//ChamberMaster//Event Calendar 2.0//EN
METHOD:PUBLISH
X-PUBLISHED-TTL:P3D
REFRESH-INTERVAL:P3D
CALSCALE:GREGORIAN
BEGIN:VEVENT
DTSTART;VALUE=DATE:20110605
DTEND;VALUE=DATE:20110606
TRANSP:TRANSPARENT
X-MICROSOFT-CDO-ALLDAYEVENT:TRUE
SUMMARY:BBQ - Hosted by Filley Volunteer Firemen
DESCRIPTION:Chicken BBQ\n\nhosted by The Filley Volunteer Firemen\n\n\n\nSunday\, June 5\n\n11 am - 1 pm\n\n\n\nSapp Building in Filley\n\n\n\nA freewill donation will be accepted for the meal of one-half chicken\, potato chips\, beans\, roll and drink.  Pie\, ice cream and dessert will be served by the Sunshine Gals Extension Club.\n\n\n\nProceeds go to the fire department for expenses and upgrades.
X-ALT-DESC;FMTTYPE=text/html:Chicken BBQ<br />\nhosted by The Filley Volunteer Firemen<br />\n<br />\nSunday\, June 5<br />\n11 am - 1 pm<br />\n<br />\nSapp Building in Filley<br />\n<br />\nA freewill donation will be accepted for the meal of one-half chicken\, potato chips\, beans\, roll and drink.&nbsp\; Pie\, ice cream and dessert will be served by the Sunshine Gals Extension Club.<br />\n<br />\nProceeds go to the fire department for expenses and upgrades.
LOCATION:
UID:e.41.4844
SEQUENCE:3
DTSTAMP:20260424T165635Z
URL:https://business.beatricechamber.com/events/details/bbq-hosted-by-filley-volunteer-firemen-06-05-2011-4844
END:VEVENT

END:VCALENDAR
