BEGIN:VCALENDAR
VERSION:2.0
PRODID:-//ChamberMaster//Event Calendar 2.0//EN
METHOD:PUBLISH
X-PUBLISHED-TTL:P3D
REFRESH-INTERVAL:P3D
CALSCALE:GREGORIAN
BEGIN:VEVENT
DTSTART;VALUE=DATE:20120621
DTEND;VALUE=DATE:20120622
TRANSP:TRANSPARENT
X-MICROSOFT-CDO-ALLDAYEVENT:TRUE
SUMMARY:BCC to host fifth annual Rally for the Cure
DESCRIPTION:The Beatrice Country Club will host its fifth annual Rally for the Cure golf tournament Thursday\, June 21.\n\nThe event\, which is a fundraiser for the Susan G. Komen Foundation\, helps publicize breast cancer awareness.\n\nA field of 100 golfers is expected for the event\, which will be a four-woman Texas scramble.\n\nEntry fee is $65 a player or $260 a team.\n\nLocal event organizers are Julie Runcie\, Nancy Baker\, Deb Fox\, Trudy Roche\, and Kathy Villafane.\n\nFor more information\, or to register for the event\, call the Beatrice Country Club at 402-223-2710.
X-ALT-DESC;FMTTYPE=text/html:The Beatrice Country Club&nbsp\;will host its fifth annual Rally for the Cure&nbsp\;golf tournament&nbsp\;Thursday\,&nbsp\;June 21.<br />\nThe event\, which is a fundraiser for&nbsp\;the Susan G. Komen&nbsp\;Foundation\, helps publicize&nbsp\;breast cancer awareness.<br />\nA&nbsp\;field of&nbsp\;100 golfers&nbsp\;is expected&nbsp\;for the event\, which will&nbsp\;be a four-woman Texas scramble.<br />\nEntry fee is&nbsp\;$65 a player or&nbsp\;$260 a team.<br />\nLocal event organizers&nbsp\;are Julie Runcie\,&nbsp\;Nancy Baker\, Deb Fox\, Trudy Roche\, and&nbsp\;Kathy Villafane.<br />\nFor more information\, or to register&nbsp\;for the event\, call&nbsp\;the Beatrice&nbsp\;Country Club at 402-223-2710.
LOCATION:
UID:e.41.5720
SEQUENCE:3
DTSTAMP:20260422T131406Z
URL:https://business.beatricechamber.com/events/details/bcc-to-host-fifth-annual-rally-for-the-cure-06-21-2012-5720
END:VEVENT

END:VCALENDAR
