BEGIN:VCALENDAR
VERSION:2.0
PRODID:-//ChamberMaster//Event Calendar 2.0//EN
METHOD:PUBLISH
X-PUBLISHED-TTL:P3D
REFRESH-INTERVAL:P3D
CALSCALE:GREGORIAN
BEGIN:VEVENT
DTSTART;VALUE=DATE:20120621
DTEND;VALUE=DATE:20120622
TRANSP:TRANSPARENT
X-MICROSOFT-CDO-ALLDAYEVENT:TRUE
SUMMARY:BCC to host Rally for the Cure
DESCRIPTION:The Beatrice Country Club will host its fifth annual Rally for the Cure golf tournament Thursday\, June 21.\n\nThe event\, which is a fundraiser for the Susan G. Komen Foundation\, helps publicize breast cancer awareness.\n\nA field of 100 golfers is expected for the event\, which will be a four-woman Texas scramble. Entry fee is $65 per player or $260 per team.\n\nLocal event organizers are Julie Runcie\, Nancy Baker\, Deb Fox\, Trudy Roche\, and Kathy Villafane.\n\nFor more information\, or to register for the event\, contact the Beatrice Country Club at 402-223-2710.
X-ALT-DESC;FMTTYPE=text/html:The Beatrice&nbsp\;Country Club&nbsp\;will host its fifth&nbsp\;annual Rally&nbsp\;for the Cure golf tournament Thursday\, June 21.<br />\nThe&nbsp\;event\, which is a fundraiser for the Susan G. Komen Foundation\,&nbsp\;helps publicize breast cancer awareness.<br />\nA field of 100&nbsp\;golfers is expected for the event\, which will be a four-woman&nbsp\;Texas scramble. Entry fee is&nbsp\;$65&nbsp\;per player or $260&nbsp\;per team.<br />\nLocal&nbsp\;event organizers&nbsp\;are Julie&nbsp\;Runcie\,&nbsp\;Nancy Baker\, Deb&nbsp\;Fox\, Trudy&nbsp\;Roche\, and&nbsp\;Kathy Villafane.<br />\nFor more information\, or to&nbsp\;register for the event\, contact&nbsp\;the Beatrice Country Club at&nbsp\;402-223-2710.
LOCATION:
UID:e.41.5497
SEQUENCE:3
DTSTAMP:20260422T131137Z
URL:https://business.beatricechamber.com/events/details/bcc-to-host-rally-for-the-cure-06-21-2012-5497
END:VEVENT

END:VCALENDAR
