BEGIN:VCALENDAR
VERSION:2.0
PRODID:-//ChamberMaster//Event Calendar 2.0//EN
METHOD:PUBLISH
X-PUBLISHED-TTL:P3D
REFRESH-INTERVAL:P3D
CALSCALE:GREGORIAN
BEGIN:VEVENT
DTSTART:20101108T150000Z
DTEND:20101108T220000Z
X-MICROSOFT-CDO-ALLDAYEVENT:FALSE
SUMMARY:BCH Gift Shop's 10th Annual Holiday Open House
DESCRIPTION:BCH Gift Shop's Open House\n\n\n\nMonday\, November 8th\n\n9 a.m.-4 p.m.\n\n\n\nThere will be a table of jewelry at prices you won't believe!\n\n\n\n1110 N. 10th St.\n\nBeatrice\, NE\n\n228-3344
X-ALT-DESC;FMTTYPE=text/html:<strong><span style="font-size: 14px">BCH Gift Shop&#39\;s Open House</span></strong><br />\n<br />\nMonday\, November 8th<br />\n9 a.m.-4 p.m.<br />\n<br />\nThere will be a table of jewelry at prices you won&#39\;t believe!<br />\n<br />\n1110 N. 10th St.<br />\nBeatrice\, NE<br />\n228-3344
LOCATION:
UID:e.41.2768
SEQUENCE:3
DTSTAMP:20260425T032931Z
URL:https://business.beatricechamber.com/events/details/bch-gift-shop-s-10th-annual-holiday-open-house-11-08-2010-2768
END:VEVENT

END:VCALENDAR
