BEGIN:VCALENDAR
VERSION:2.0
PRODID:-//ChamberMaster//Event Calendar 2.0//EN
METHOD:PUBLISH
X-PUBLISHED-TTL:P3D
REFRESH-INTERVAL:P3D
CALSCALE:GREGORIAN
BEGIN:VEVENT
DTSTART;VALUE=DATE:20111110
DTEND;VALUE=DATE:20111111
TRANSP:TRANSPARENT
X-MICROSOFT-CDO-ALLDAYEVENT:TRUE
SUMMARY:BCH Hospice Educational Program
DESCRIPTION:Beatrice Community Hospital Hospice free educational program:\n\n"Beyond Kubler-Ross:  New Perspectives on Death\, Dying and Grief"\n\n\n\nFree Viewing\n\n\n\nThursday\, November 10\n\nRegistration:  12:30-1:30 pm\n\nProgram: 1 - 3 pm\n\nPanel Discussion: 3 - 3:30 pm (for those seeking continuing education credits)\n\n\n\nEvent will be held at Parkview Conference Center\, 1216 S Eigth Street\, Beatrice\, NE.\n\n\n\nFor more information\, call Beatrice Community Hospital Hospital at 402-223-2366.
X-ALT-DESC;FMTTYPE=text/html:Beatrice Community Hospital Hospice free educational program:<br />\n&quot\;Beyond Kubler-Ross:&nbsp\; New Perspectives on Death\, Dying and Grief&quot\;<br />\n<br />\nFree Viewing<br />\n<br />\nThursday\, November 10<br />\nRegistration:&nbsp\; 12:30-1:30 pm<br />\nProgram: 1 - 3 pm<br />\nPanel Discussion: 3 - 3:30 pm (for those seeking continuing education credits)<br />\n<br />\nEvent will be held at Parkview Conference Center\, 1216 S Eigth Street\, Beatrice\, NE.<br />\n<br />\nFor more information\, call Beatrice Community Hospital Hospital at 402-223-2366.
LOCATION:
UID:e.41.5225
SEQUENCE:3
DTSTAMP:20260424T095818Z
URL:https://business.beatricechamber.com/events/details/bch-hospice-educational-program-11-10-2011-5225
END:VEVENT

END:VCALENDAR
