BEGIN:VCALENDAR
VERSION:2.0
PRODID:-//ChamberMaster//Event Calendar 2.0//EN
METHOD:PUBLISH
X-PUBLISHED-TTL:P3D
REFRESH-INTERVAL:P3D
CALSCALE:GREGORIAN
BEGIN:VEVENT
DTSTART:20091026T190000Z
DTEND:20091026T200000Z
X-MICROSOFT-CDO-ALLDAYEVENT:FALSE
SUMMARY:BCHHC Groundbreaking Ceremony
DESCRIPTION:Holiday Inn Express Conference CenterMonday\, October 26\, 20092:00 pm
X-ALT-DESC;FMTTYPE=text/html:<div>Holiday Inn Express Conference Center</div><div>Monday\, October 26\, 2009</div><div>2:00 pm</div>
LOCATION:
UID:e.41.1498
SEQUENCE:3
DTSTAMP:20260425T221304Z
URL:https://business.beatricechamber.com/events/details/bchhc-groundbreaking-ceremony-10-26-2009-1498
END:VEVENT

END:VCALENDAR
