BEGIN:VCALENDAR
VERSION:2.0
PRODID:-//ChamberMaster//Event Calendar 2.0//EN
METHOD:PUBLISH
X-PUBLISHED-TTL:P3D
REFRESH-INTERVAL:P3D
CALSCALE:GREGORIAN
BEGIN:VEVENT
DTSTART;VALUE=DATE:20101113
DTEND;VALUE=DATE:20101114
TRANSP:TRANSPARENT
X-MICROSOFT-CDO-ALLDAYEVENT:TRUE
SUMMARY:Beatice Mennonite Church movie night
DESCRIPTION:Beatrice Menonite Church movie night:\n\n\n\nBeatrice Menonite Church at 1220 Summit in Beatrice will be having a movie night on Saturday\, Nov. 13\, beginning at 6:30 p.m.\n\n\n\nThe movie to be shown is "Flywheel\," a film about a used car salesman who decides to change his life and become a beter husband and father and stop ripping off unsuspecting customers.\n\n\n\nThe community is invited to join in for this fun and uplifting evening.
X-ALT-DESC;FMTTYPE=text/html:<strong><span style="font-size: 14px">Beatrice Menonite Church movie night:</span></strong><br />\n<br />\nBeatrice Menonite Church at 1220 Summit in Beatrice will be having a movie night on Saturday\, Nov. 13\, beginning at 6:30 p.m.<br />\n<br />\nThe movie to be shown is &quot\;Flywheel\,&quot\; a film about a used car salesman who decides to change his life and become a beter husband and father and stop ripping off unsuspecting customers.<br />\n<br />\nThe community is invited to join in for this fun and uplifting evening.
LOCATION:
UID:e.41.2780
SEQUENCE:3
DTSTAMP:20260425T033100Z
URL:https://business.beatricechamber.com/events/details/beatice-mennonite-church-movie-night-11-13-2010-2780
END:VEVENT

END:VCALENDAR
