BEGIN:VCALENDAR
VERSION:2.0
PRODID:-//ChamberMaster//Event Calendar 2.0//EN
METHOD:PUBLISH
X-PUBLISHED-TTL:P3D
REFRESH-INTERVAL:P3D
CALSCALE:GREGORIAN
BEGIN:VEVENT
DTSTART:20090612T163000Z
DTEND:20090612T170000Z
X-MICROSOFT-CDO-ALLDAYEVENT:FALSE
SUMMARY:Beatrice 1450 KWBE 60th Anniversary Celebration Ribbon Cutting
DESCRIPTION:
X-ALT-DESC;FMTTYPE=text/html:
LOCATION:
UID:e.41.1221
SEQUENCE:3
DTSTAMP:20260426T043020Z
URL:https://business.beatricechamber.com/events/details/beatrice-1450-kwbe-60th-anniversary-celebration-ribbon-cutting-06-12-2009-1221
END:VEVENT

END:VCALENDAR
