BEGIN:VCALENDAR
VERSION:2.0
PRODID:-//ChamberMaster//Event Calendar 2.0//EN
METHOD:PUBLISH
X-PUBLISHED-TTL:P3D
REFRESH-INTERVAL:P3D
CALSCALE:GREGORIAN
BEGIN:VEVENT
DTSTART;VALUE=DATE:20110314
DTEND;VALUE=DATE:20110315
TRANSP:TRANSPARENT
X-MICROSOFT-CDO-ALLDAYEVENT:TRUE
SUMMARY:Beatrice After 5
DESCRIPTION:7 p.m. Valentino's Primavera Room\, Beatrice.\n\n\n\nSpecial feature: Kathy Villafane on travel planning.\n\nSpeaker: Melanie Dennig of Grand island on "Traveling Life".\n\nCost: $10\n\nReservations to Tiffany at 239-7302
X-ALT-DESC;FMTTYPE=text/html:<strong>7 p.m.</strong> Valentino&#39\;s Primavera Room\, Beatrice.<br />\n<br />\n<strong>Special feature: </strong>Kathy Villafane on travel planning.<br />\n<strong>Speaker: </strong>Melanie Dennig of Grand island on &quot\;Traveling Life&quot\;.<br />\n<strong>Cost:</strong> $10<br />\nReservations to Tiffany at <strong>239-7302</strong>
LOCATION:
UID:e.41.4230
SEQUENCE:3
DTSTAMP:20260424T211541Z
URL:https://business.beatricechamber.com/events/details/beatrice-after-5-03-14-2011-4230
END:VEVENT

END:VCALENDAR
