BEGIN:VCALENDAR
VERSION:2.0
PRODID:-//ChamberMaster//Event Calendar 2.0//EN
METHOD:PUBLISH
X-PUBLISHED-TTL:P3D
REFRESH-INTERVAL:P3D
CALSCALE:GREGORIAN
BEGIN:VEVENT
DTSTART;VALUE=DATE:20100517
DTEND;VALUE=DATE:20100518
TRANSP:TRANSPARENT
X-MICROSOFT-CDO-ALLDAYEVENT:TRUE
SUMMARY:Beatrice After 5
DESCRIPTION:Beatrice After 5 Monday\, May 177 p.m.Valentino's Primavera Room Tickets: $8.75\, includes meal and program.  Special Feature:  "Quilt Stitches" by Mary Kostal\, owner of the new store Quilt Stitches. Speaker:  Jan Mills of Arnolds Park\, IA on "Both Rebel and Yankee Spoken Here."  Mills will also be providing music.
X-ALT-DESC;FMTTYPE=text/html:<div><span style="font-size: small">Beatrice After 5</span></div><div>&nbsp\;</div><div><span style="font-size: small">Monday\, May 17</span></div><div><span style="font-size: small">7 p.m.</span></div><div><span style="font-size: small">Valentino's Primavera Room</span></div><div>&nbsp\;</div><div>Tickets: $8.75\, includes meal and program.&nbsp\;</div><div>&nbsp\;</div><div>Special Feature:&nbsp\; &quot\;Quilt&nbsp\;Stitches&quot\; by Mary Kostal\, owner of the new store Quilt Stitches.</div><div>&nbsp\;</div><div>Speaker: &nbsp\;Jan Mills of Arnolds Park\, IA&nbsp\;on &quot\;Both Rebel and Yankee Spoken Here.&quot\;&nbsp\; Mills will also be providing music.</div>
LOCATION:
UID:e.41.1996
SEQUENCE:3
DTSTAMP:20260425T122451Z
URL:https://business.beatricechamber.com/events/details/beatrice-after-5-05-17-2010-1996
END:VEVENT

END:VCALENDAR
