BEGIN:VCALENDAR
VERSION:2.0
PRODID:-//ChamberMaster//Event Calendar 2.0//EN
METHOD:PUBLISH
X-PUBLISHED-TTL:P3D
REFRESH-INTERVAL:P3D
CALSCALE:GREGORIAN
BEGIN:VEVENT
DTSTART;VALUE=DATE:20101115
DTEND;VALUE=DATE:20101116
TRANSP:TRANSPARENT
X-MICROSOFT-CDO-ALLDAYEVENT:TRUE
SUMMARY:Beatrice After 5
DESCRIPTION:Beatrice After 5\n\n\n\n7 p.m. Valentino's Primavera Room\n\nSpecial feature: Julie Erickson on Mother Ministry\n\nSpeaker: Cheryl Dunagan of Grand Island on "Shepherd's Wife"\n\n\n\nCost:$10 for meal and entertainment\n\n\n\nMenu: Valentino's buffet and coffee or tea from 6:45-7 p.m.\n\n\n\nReservations by November 11 by sending email to beatriceafter5@yahoo.com or calling Tiffany at 239-7302. Child care assistance available
X-ALT-DESC;FMTTYPE=text/html:<strong><span style="font-size: 14px">Beatrice After 5</span></strong><br />\n<br />\n7 p.m. Valentino&#39\;s Primavera Room<br />\nSpecial feature: Julie Erickson on Mother Ministry<br />\nSpeaker: Cheryl Dunagan of Grand Island on &quot\;Shepherd&#39\;s Wife&quot\;<br />\n<br />\nCost:$10 for meal and entertainment<br />\n<br />\nMenu: Valentino&#39\;s buffet and coffee or tea from 6:45-7 p.m.<br />\n<br />\nReservations by November 11 by sending email to <a href="mailto:beatriceafter5@yahoo.com">beatriceafter5@yahoo.com</a> or calling Tiffany at 239-7302. Child care assistance available
LOCATION:
UID:e.41.2798
SEQUENCE:3
DTSTAMP:20260425T032504Z
URL:https://business.beatricechamber.com/events/details/beatrice-after-5-11-15-2010-2798
END:VEVENT

END:VCALENDAR
