BEGIN:VCALENDAR
VERSION:2.0
PRODID:-//ChamberMaster//Event Calendar 2.0//EN
METHOD:PUBLISH
X-PUBLISHED-TTL:P3D
REFRESH-INTERVAL:P3D
CALSCALE:GREGORIAN
BEGIN:VEVENT
DTSTART;VALUE=DATE:20100315
DTEND;VALUE=DATE:20100316
TRANSP:TRANSPARENT
X-MICROSOFT-CDO-ALLDAYEVENT:TRUE
SUMMARY:Beatrice After 5\, 3/15/2010
DESCRIPTION:Beatrice After 5Featuring Tom Sommers\, CEO of the Beatrice Community HospitalSpeaker: Kris Beckenbach of Lincoln on "Have Big Flowered Bag\, Will Travel." Valentino's Primavera Room7th & Court\, Beatrice\, NE7 p.m. Tickets: $8.75 for meal and programMenu: Valenino's buffet\, tea or coffee\, serve yourself anytime after 6:45 p.m. For reservations call Tiffany at 239-7302 or email beatriceafter5@yahoo.com by Thursday\, March 11.  Child care assistance available\, call to inquire.
X-ALT-DESC;FMTTYPE=text/html:<div>Beatrice After 5</div><div>Featuring Tom Sommers\, CEO of the Beatrice Community Hospital</div><div>Speaker: Kris Beckenbach of Lincoln on &quot\;Have Big Flowered Bag\, Will Travel.&quot\;</div><div>&nbsp\;</div><div>Valentino's Primavera Room</div><div>7th &amp\; Court\, Beatrice\, NE</div><div>7 p.m.</div><div>&nbsp\;</div><div>Tickets: $8.75 for meal and program</div><div>Menu: Valenino's buffet\, tea or coffee\, serve yourself anytime after 6:45 p.m.</div><div>&nbsp\;</div><div>For reservations call Tiffany at 239-7302 or email <a href="mailto:beatriceafter5@yahoo.com">beatriceafter5@yahoo.com</a> by Thursday\, March 11.&nbsp\; Child care assistance available\, call to inquire.</div><div>&nbsp\;</div><div>&nbsp\;</div>
LOCATION:
UID:e.41.1672
SEQUENCE:3
DTSTAMP:20260425T153054Z
URL:https://business.beatricechamber.com/events/details/beatrice-after-5-3-15-2010-03-15-2010-1672
END:VEVENT

END:VCALENDAR
