BEGIN:VCALENDAR
VERSION:2.0
PRODID:-//ChamberMaster//Event Calendar 2.0//EN
METHOD:PUBLISH
X-PUBLISHED-TTL:P3D
REFRESH-INTERVAL:P3D
CALSCALE:GREGORIAN
BEGIN:VEVENT
DTSTART:20120425T220000Z
DTEND:20120426T000000Z
X-MICROSOFT-CDO-ALLDAYEVENT:FALSE
SUMMARY:Beatrice American Legion Auxiliary Chicken Supper
DESCRIPTION:Proceeds used to finance Veterans' projects\, local community projects and charities\, as well as children and youth causes
X-ALT-DESC;FMTTYPE=text/html:Proceeds used to finance Veterans&#39\; projects\, local community projects and charities\, as well as children and youth causes
LOCATION:Legion Club\, 701 Dorsey St.\, Beatrice
UID:e.41.5461
SEQUENCE:3
DTSTAMP:20260422T155102Z
URL:https://business.beatricechamber.com/events/details/beatrice-american-legion-auxiliary-chicken-supper-04-25-2012-5461
END:VEVENT

END:VCALENDAR
