BEGIN:VCALENDAR
VERSION:2.0
PRODID:-//ChamberMaster//Event Calendar 2.0//EN
METHOD:PUBLISH
X-PUBLISHED-TTL:P3D
REFRESH-INTERVAL:P3D
CALSCALE:GREGORIAN
BEGIN:VEVENT
DTSTART;VALUE=DATE:20110121
DTEND;VALUE=DATE:20110122
TRANSP:TRANSPARENT
X-MICROSOFT-CDO-ALLDAYEVENT:TRUE
SUMMARY:Beatrice Area Arts Council annual meeting
DESCRIPTION:Beatrice Area Arts Council\n\nAnnual Meeting of the Membership\n\n\n\nFriday\, January 21\n\nNoon\n\n\n\nin the Library of St. John Lutheran Church\, Beatrice\n\n\n\nThe public is invited to attend.
X-ALT-DESC;FMTTYPE=text/html:Beatrice Area Arts Council<br />\nAnnual Meeting of the Membership<br />\n<br />\nFriday\, January 21<br />\nNoon<br />\n<br />\nin the Library of St. John Lutheran Church\, Beatrice<br />\n<br />\nThe public is invited to attend.
LOCATION:
UID:e.41.3285
SEQUENCE:3
DTSTAMP:20260425T003931Z
URL:https://business.beatricechamber.com/events/details/beatrice-area-arts-council-annual-meeting-01-21-2011-3285
END:VEVENT

END:VCALENDAR
