BEGIN:VCALENDAR
VERSION:2.0
PRODID:-//ChamberMaster//Event Calendar 2.0//EN
METHOD:PUBLISH
X-PUBLISHED-TTL:P3D
REFRESH-INTERVAL:P3D
CALSCALE:GREGORIAN
BEGIN:VEVENT
DTSTART;VALUE=DATE:20100316
DTEND;VALUE=DATE:20100317
TRANSP:TRANSPARENT
X-MICROSOFT-CDO-ALLDAYEVENT:TRUE
SUMMARY:Beatrice Area Railroad Enthusiasts 3/16/10
DESCRIPTION:Beatrice Area Railroad EnthusiastsMonthly Meeting: Tuesday\, March 16\, 20107 p.m. Auditorium Conference RoomBeatrice City Auditorium4th & Ella Streets Use North entrance.  For more information\, call Rich 223-5026 or Dave\, 223-5123.
X-ALT-DESC;FMTTYPE=text/html:<div>Beatrice Area Railroad Enthusiasts</div><div>Monthly Meeting: Tuesday\, March 16\, 2010</div><div>7 p.m.</div><div>&nbsp\;</div><div>Auditorium Conference Room</div><div>Beatrice City Auditorium</div><div>4th &amp\;&nbsp\;Ella Streets</div><div>&nbsp\;</div><div>Use North entrance.&nbsp\; For more information\, call Rich 223-5026 or Dave\, 223-5123.</div>
LOCATION:
UID:e.41.1702
SEQUENCE:3
DTSTAMP:20260425T153501Z
URL:https://business.beatricechamber.com/events/details/beatrice-area-railroad-enthusiasts-3-16-10-03-16-2010-1702
END:VEVENT

END:VCALENDAR
