BEGIN:VCALENDAR
VERSION:2.0
PRODID:-//ChamberMaster//Event Calendar 2.0//EN
METHOD:PUBLISH
X-PUBLISHED-TTL:P3D
REFRESH-INTERVAL:P3D
CALSCALE:GREGORIAN
BEGIN:VEVENT
DTSTART:20110820T140000Z
DTEND:20110820T220000Z
X-MICROSOFT-CDO-ALLDAYEVENT:FALSE
SUMMARY:Beatrice Area Railroad Enthusiasts Inc. 6th Annual Train Show
DESCRIPTION:9 a.m.-5 p.m.  Holiday Inn Express\, 4005 North 6th Street\, Beatrice\, NE.  Admission:  $5 adults\; kids under 12 free with paid adult.
X-ALT-DESC;FMTTYPE=text/html:9 a.m.-5 p.m.&nbsp\; Holiday Inn Express\, 4005 North 6th Street\, Beatrice\, NE.&nbsp\; Admission:&nbsp\; $5 adults\; kids under 12 free with paid adult.
LOCATION:
UID:e.41.5011
SEQUENCE:3
DTSTAMP:20260424T140124Z
URL:https://business.beatricechamber.com/events/details/beatrice-area-railroad-enthusiasts-inc-6th-annual-train-show-08-20-2011-5011
END:VEVENT

END:VCALENDAR
