BEGIN:VCALENDAR
VERSION:2.0
PRODID:-//ChamberMaster//Event Calendar 2.0//EN
METHOD:PUBLISH
X-PUBLISHED-TTL:P3D
REFRESH-INTERVAL:P3D
CALSCALE:GREGORIAN
BEGIN:VEVENT
DTSTART:20110821T150000Z
DTEND:20110821T210000Z
X-MICROSOFT-CDO-ALLDAYEVENT:FALSE
SUMMARY:Beatrice Area Railroad Enthusiasts Inc. 6th Annual Train Show
DESCRIPTION:10 a.m.-4 p.m. Holiday Inn Express\, 4005 North 6th Street\, Beatrice\, NE.  Admission: $5 adults\; kids under 12 free with paid adult.
X-ALT-DESC;FMTTYPE=text/html:10 a.m.-4 p.m. Holiday Inn Express\, 4005 North 6th Street\, Beatrice\, NE.&nbsp\; Admission: $5 adults\; kids under 12 free with paid adult.
LOCATION:
UID:e.41.5004
SEQUENCE:3
DTSTAMP:20260424T140125Z
URL:https://business.beatricechamber.com/events/details/beatrice-area-railroad-enthusiasts-inc-6th-annual-train-show-08-21-2011-5004
END:VEVENT

END:VCALENDAR
