BEGIN:VCALENDAR
VERSION:2.0
PRODID:-//ChamberMaster//Event Calendar 2.0//EN
METHOD:PUBLISH
X-PUBLISHED-TTL:P3D
REFRESH-INTERVAL:P3D
CALSCALE:GREGORIAN
BEGIN:VEVENT
DTSTART;VALUE=DATE:20120506
DTEND;VALUE=DATE:20120507
TRANSP:TRANSPARENT
X-MICROSOFT-CDO-ALLDAYEVENT:TRUE
SUMMARY:Beatrice Area Single Dance
DESCRIPTION:Time: 6:30-10 p.m\n\n\n\nPlace: Aunt Mary's Center\, 111 S 8th Beatrice\n\n\n\nAdmission: $6 per person\n\n\n\nCoffee and rolls served 9:15 pm till ???\n\n\n\nDance to Greg Spevak. Singles and couples are welcome
X-ALT-DESC;FMTTYPE=text/html:Time:&nbsp\;6:30-10 p.m<br />\n<br />\nPlace: Aunt&nbsp\;Mary&#39\;s&nbsp\;Center\, 111 S&nbsp\;8th&nbsp\;Beatrice<br />\n<br />\nAdmission:&nbsp\;$6 per person<br />\n<br />\nCoffee and rolls&nbsp\;served&nbsp\;9:15 pm till ???<br />\n<br />\nDance to Greg Spevak. Singles&nbsp\;and couples are welcome
LOCATION:
UID:e.41.5483
SEQUENCE:3
DTSTAMP:20260422T142312Z
URL:https://business.beatricechamber.com/events/details/beatrice-area-single-dance-05-06-2012-5483
END:VEVENT

END:VCALENDAR
