BEGIN:VCALENDAR
VERSION:2.0
PRODID:-//ChamberMaster//Event Calendar 2.0//EN
METHOD:PUBLISH
X-PUBLISHED-TTL:P3D
REFRESH-INTERVAL:P3D
CALSCALE:GREGORIAN
BEGIN:VEVENT
DTSTART:20100104T003000Z
DTEND:20100104T040000Z
X-MICROSOFT-CDO-ALLDAYEVENT:FALSE
SUMMARY:Beatrice Area Singles Dance
DESCRIPTION:Beatrice Area Singles invite EVERYONE to shine up your dancing shoes and come out and enjoy an evening of fun!   Singles AND Couples Welcome.Meet friends - Visit - Dance - Have some fun! Featured Performer:
X-ALT-DESC;FMTTYPE=text/html:<div>&nbsp\;</div><div>Beatrice Area Singles invite EVERYONE to shine up your dancing shoes and come out and enjoy an evening of fun!&nbsp\;&nbsp\; Singles AND Couples Welcome.</div><div>Meet friends - Visit - Dance - Have some fun!</div><div>&nbsp\;</div><div>Featured Performer:&nbsp\;</div><div>&nbsp\;</div><div>&nbsp\;</div>
LOCATION:Eagles Club8th & Court Street
UID:e.41.1574
SEQUENCE:3
DTSTAMP:20260425T181237Z
URL:https://business.beatricechamber.com/events/details/beatrice-area-singles-dance-01-03-2010-1574
END:VEVENT

END:VCALENDAR
