BEGIN:VCALENDAR
VERSION:2.0
PRODID:-//ChamberMaster//Event Calendar 2.0//EN
METHOD:PUBLISH
X-PUBLISHED-TTL:P3D
REFRESH-INTERVAL:P3D
CALSCALE:GREGORIAN
BEGIN:VEVENT
DTSTART:20110501T233000Z
DTEND:20110502T030000Z
X-MICROSOFT-CDO-ALLDAYEVENT:FALSE
SUMMARY:Beatrice Area Singles Dance
DESCRIPTION:Everyone welcome- singles and couples!\n\nMeet friends\, visit\, dance\, and have fun!\n\nEntertainment: Rich and Roa
X-ALT-DESC;FMTTYPE=text/html:Everyone welcome- singles and couples!<br />\nMeet friends\, visit\, dance\, and have fun!<br />\nEntertainment: Rich and Roa
LOCATION:Aunt Mary's Center 111 S. 8th St Beatrice
UID:e.41.4586
SEQUENCE:3
DTSTAMP:20260424T182822Z
URL:https://business.beatricechamber.com/events/details/beatrice-area-singles-dance-05-01-2011-4586
END:VEVENT

END:VCALENDAR
