BEGIN:VCALENDAR
VERSION:2.0
PRODID:-//ChamberMaster//Event Calendar 2.0//EN
METHOD:PUBLISH
X-PUBLISHED-TTL:P3D
REFRESH-INTERVAL:P3D
CALSCALE:GREGORIAN
BEGIN:VEVENT
DTSTART:20120701T233000Z
DTEND:20120702T030000Z
X-MICROSOFT-CDO-ALLDAYEVENT:FALSE
SUMMARY:Beatrice Area Singles Dance
DESCRIPTION:Beatrice Area Singles Dance\n\n\n\nSunday\, July 1 \n\n6:30 - 10 pm\n\n\n\nAunt Mary's Center\, 111 S 8th Street\, Beatrice\n\n\n\nAdmission: $6 per person.  Coffee and rolls served 9:15 pm til ???  Dance to Leo Lonnie.  Singles and couples welcome.
X-ALT-DESC;FMTTYPE=text/html:Beatrice Area Singles&nbsp\;Dance<br />\n<br />\nSunday\, July 1&nbsp\;<br />\n6:30 - 10 pm<br />\n<br />\nAunt Mary&#39\;s Center\, 111 S 8th Street\, Beatrice<br />\n<br />\nAdmission: $6 per person.&nbsp\; Coffee and rolls served 9:15 pm til ???&nbsp\; Dance to Leo Lonnie.&nbsp\; Singles and couples welcome.
LOCATION:
UID:e.41.5742
SEQUENCE:3
DTSTAMP:20260422T113653Z
URL:https://business.beatricechamber.com/events/details/beatrice-area-singles-dance-07-01-2012-5742
END:VEVENT

END:VCALENDAR
