BEGIN:VCALENDAR
VERSION:2.0
PRODID:-//ChamberMaster//Event Calendar 2.0//EN
METHOD:PUBLISH
X-PUBLISHED-TTL:P3D
REFRESH-INTERVAL:P3D
CALSCALE:GREGORIAN
BEGIN:VEVENT
DTSTART:20090906T233000Z
DTEND:20090907T030000Z
X-MICROSOFT-CDO-ALLDAYEVENT:FALSE
SUMMARY:Beatrice Area Singles Dance
DESCRIPTION:Beatrice Area Singles invite EVERYONE to shine up your dancing shoes and come out and enjoy an evening of fun!   Singles AND Couples Welcome.Meet friends - Visit - Dance - Have some fun! Featured Performer:  Variety Boys
X-ALT-DESC;FMTTYPE=text/html:<div>Beatrice Area Singles invite EVERYONE to shine up your dancing shoes and come out and enjoy an evening of fun!&nbsp\;&nbsp\; Singles AND Couples Welcome.</div><div>Meet friends - Visit - Dance - Have some fun!</div><div>&nbsp\;</div><div>Featured Performer:&nbsp\;</div><div>&nbsp\;</div><div><strong><font color="#993366" size="3">Variety Boys</font></strong></div>
LOCATION:Eagles Club8th & Court Street
UID:e.41.924
SEQUENCE:3
DTSTAMP:20260425T233224Z
URL:https://business.beatricechamber.com/events/details/beatrice-area-singles-dance-09-06-2009-924
END:VEVENT

END:VCALENDAR
