BEGIN:VCALENDAR
VERSION:2.0
PRODID:-//ChamberMaster//Event Calendar 2.0//EN
METHOD:PUBLISH
X-PUBLISHED-TTL:P3D
REFRESH-INTERVAL:P3D
CALSCALE:GREGORIAN
BEGIN:VEVENT
DTSTART:20111205T003000Z
DTEND:20111205T040000Z
X-MICROSOFT-CDO-ALLDAYEVENT:FALSE
SUMMARY:Beatrice Area Singles Dance
DESCRIPTION:Beatrice Area Singles Dance\n\n\n\nSunday\, December 4\n\n6:30 - 10 pm\n\n\n\nAunt Mary's Center\, 111 S 8th\, Beatrice\, NE\n\n\n\nAdmission is $6 per person\n\nCoffee and Rolls served 9:15 pm til ???\n\n\n\nEveryone welcome\, singles & couples\n\nMeet friends\, Visit\, Dance\, Have Fun!
X-ALT-DESC;FMTTYPE=text/html:Beatrice Area Singles Dance<br />\n<br />\nSunday\, December 4<br />\n6:30&nbsp\;- 10 pm<br />\n<br />\nAunt Mary&#39\;s Center\, 111 S 8th\, Beatrice\, NE<br />\n<br />\nAdmission is $6 per person<br />\nCoffee and Rolls served 9:15 pm til ???<br />\n<br />\nEveryone welcome\, singles &amp\; couples<br />\nMeet friends\, Visit\, Dance\, Have Fun!
LOCATION:
UID:e.41.5259
SEQUENCE:3
DTSTAMP:20260424T082808Z
URL:https://business.beatricechamber.com/events/details/beatrice-area-singles-dance-12-04-2011-5259
END:VEVENT

END:VCALENDAR
