BEGIN:VCALENDAR
VERSION:2.0
PRODID:-//ChamberMaster//Event Calendar 2.0//EN
METHOD:PUBLISH
X-PUBLISHED-TTL:P3D
REFRESH-INTERVAL:P3D
CALSCALE:GREGORIAN
BEGIN:VEVENT
DTSTART:20091207T003000Z
DTEND:20091207T040000Z
X-MICROSOFT-CDO-ALLDAYEVENT:FALSE
SUMMARY:Beatrice Area Singles Dance
DESCRIPTION:Merry Christmas - Appreciation Dance!! Beatrice Area Singles invite EVERYONE to shine up your dancing shoes and come out and enjoy an evening of fun!   Singles AND Couples Welcome.Meet friends - Visit - Dance - Have some fun! Featured Performer:  Variety Boys
X-ALT-DESC;FMTTYPE=text/html:<div>Merry Christmas - Appreciation Dance!!</div><div>&nbsp\;</div><div>Beatrice Area Singles invite EVERYONE to shine up your dancing shoes and come out and enjoy an evening of fun!&nbsp\;&nbsp\; Singles AND Couples Welcome.</div><div>Meet friends - Visit - Dance - Have some fun!</div><div>&nbsp\;</div><div>Featured Performer:&nbsp\;</div><div>&nbsp\;</div><div><strong><font color="#993366" size="3">Variety Boys</font></strong></div>
LOCATION:Eagles Club8th & Court Street
UID:e.41.927
SEQUENCE:3
DTSTAMP:20260425T193912Z
URL:https://business.beatricechamber.com/events/details/beatrice-area-singles-dance-12-06-2009-927
END:VEVENT

END:VCALENDAR
