BEGIN:VCALENDAR
VERSION:2.0
PRODID:-//ChamberMaster//Event Calendar 2.0//EN
METHOD:PUBLISH
X-PUBLISHED-TTL:P3D
REFRESH-INTERVAL:P3D
CALSCALE:GREGORIAN
BEGIN:VEVENT
DTSTART:20090715T000000Z
DTEND:20090715T030000Z
X-MICROSOFT-CDO-ALLDAYEVENT:FALSE
SUMMARY:Beatrice Bruins Baseball
DESCRIPTION:Bruins final home game vs. Clarinda A'sChristenson Field7:00 pm
X-ALT-DESC;FMTTYPE=text/html:<div>Bruins final home game vs. Clarinda A's</div><div>Christenson Field</div><div>7:00 pm</div><div>&nbsp\;</div><div>&nbsp\;</div>
LOCATION:
UID:e.41.1293
SEQUENCE:3
DTSTAMP:20260426T025942Z
URL:https://business.beatricechamber.com/events/details/beatrice-bruins-baseball-07-14-2009-1293
END:VEVENT

END:VCALENDAR
