BEGIN:VCALENDAR
VERSION:2.0
PRODID:-//ChamberMaster//Event Calendar 2.0//EN
METHOD:PUBLISH
X-PUBLISHED-TTL:P3D
REFRESH-INTERVAL:P3D
CALSCALE:GREGORIAN
BEGIN:VEVENT
DTSTART;VALUE=DATE:20091213
DTEND;VALUE=DATE:20091214
TRANSP:TRANSPARENT
X-MICROSOFT-CDO-ALLDAYEVENT:TRUE
SUMMARY:Beatrice Bruins Baseball Banquet
DESCRIPTION:After 40 years of baseball\, the final banquet will be heldSunday\, December 13\, 2009Eagle's Club Doors Open at 4:00 pmSilent Auction5:00 pm Autograph signing with New York Yankee Joba Chamberlain and former Major Leaguer Shane Hatler6:30 Dinner Tickets are available by contacting Bob Steinkamp at 223-3081Adults - $30Students through High School - $15
X-ALT-DESC;FMTTYPE=text/html:<div>After 40 years of baseball\, the final banquet will be held</div><div>Sunday\, December 13\, 2009</div><div>Eagle's Club</div><div>&nbsp\;</div><div>Doors Open at 4:00 pm</div><div>Silent Auction</div><div>5:00 pm Autograph signing with New York Yankee Joba Chamberlain and former Major Leaguer Shane Hatler</div><div>6:30 Dinner</div><div>&nbsp\;</div><div>Tickets are available by contacting Bob Steinkamp at 223-3081</div><div>Adults - $30</div><div>Students through High School - $15</div>
LOCATION:
UID:e.41.1544
SEQUENCE:3
DTSTAMP:20260425T194248Z
URL:https://business.beatricechamber.com/events/details/beatrice-bruins-baseball-banquet-12-13-2009-1544
END:VEVENT

END:VCALENDAR
