BEGIN:VCALENDAR
VERSION:2.0
PRODID:-//ChamberMaster//Event Calendar 2.0//EN
METHOD:PUBLISH
X-PUBLISHED-TTL:P3D
REFRESH-INTERVAL:P3D
CALSCALE:GREGORIAN
BEGIN:VEVENT
DTSTART:20110123T163000Z
DTEND:20110123T203000Z
X-MICROSOFT-CDO-ALLDAYEVENT:FALSE
SUMMARY:Beatrice Bullets Pancake Breakfast
DESCRIPTION:Beatrice Bullets Pancake Breakfast - Free will donation to fix fields at Scott Street
X-ALT-DESC;FMTTYPE=text/html:Beatrice Bullets Pancake Breakfast - Free will donation to fix fields at Scott Street
LOCATION:VFW
UID:e.41.3286
SEQUENCE:3
DTSTAMP:20260425T014135Z
URL:https://business.beatricechamber.com/events/details/beatrice-bullets-pancake-breakfast-01-23-2011-3286
END:VEVENT

END:VCALENDAR
