BEGIN:VCALENDAR
VERSION:2.0
PRODID:-//ChamberMaster//Event Calendar 2.0//EN
METHOD:PUBLISH
X-PUBLISHED-TTL:P3D
REFRESH-INTERVAL:P3D
CALSCALE:GREGORIAN
BEGIN:VEVENT
DTSTART;VALUE=DATE:20100313
DTEND;VALUE=DATE:20100314
TRANSP:TRANSPARENT
X-MICROSOFT-CDO-ALLDAYEVENT:TRUE
SUMMARY:Beatrice Bullets Tryouts
DESCRIPTION:Beatrice Bullets12 & Under Baseball TeamTRYOUTS Saturday\, March 13\, 201011 a.m. - 1 p.m. Beatrice Public Schools Administration Building For more information contact Scott Ragland at 402-510-5562www.beatricebullets.com
X-ALT-DESC;FMTTYPE=text/html:<div>Beatrice Bullets</div><div>12 &amp\; Under Baseball TeamTRYOUTS</div><div>&nbsp\;</div><div>Saturday\, March 13\, 2010</div><div>11 a.m. - 1 p.m.</div><div>&nbsp\;</div><div>Beatrice Public Schools Administration Building</div><div>&nbsp\;</div><div>For more information contact Scott Ragland at 402-510-5562</div><div><a href="http://www.beatricebullets.com">www.beatricebullets.com</a></div>
LOCATION:
UID:e.41.1685
SEQUENCE:3
DTSTAMP:20260425T154256Z
URL:https://business.beatricechamber.com/events/details/beatrice-bullets-tryouts-03-13-2010-1685
END:VEVENT

END:VCALENDAR
