BEGIN:VCALENDAR
VERSION:2.0
PRODID:-//ChamberMaster//Event Calendar 2.0//EN
METHOD:PUBLISH
X-PUBLISHED-TTL:P3D
REFRESH-INTERVAL:P3D
CALSCALE:GREGORIAN
BEGIN:VEVENT
DTSTART;VALUE=DATE:20110729
DTEND;VALUE=DATE:20110730
TRANSP:TRANSPARENT
X-MICROSOFT-CDO-ALLDAYEVENT:TRUE
SUMMARY:Beatrice Children's Theatre Production of "Alice in Wonderland"
DESCRIPTION:Starts at 7:30 p.m.\, Community Players Theatre\, 412 Ella St.\, Beatrice.  Assistant directors: Megan Stokebrand of DeWitt and Megan Decker of Beatrice.  Two casts.  When requesting tickets\, request the production with your favorite young actors.  Box office: 402-228-1801\, 5-8 p.m.  Tickets: adults\, $10\; children 12 and under\, $5.
X-ALT-DESC;FMTTYPE=text/html:Starts at 7:30 p.m.\, Community Players Theatre\, 412 Ella St.\, Beatrice.&nbsp\; Assistant directors: Megan Stokebrand of DeWitt and Megan Decker of Beatrice.&nbsp\; Two casts.&nbsp\; When requesting tickets\, request the production with your favorite young actors.&nbsp\; Box office: 402-228-1801\, 5-8 p.m.&nbsp\; Tickets: adults\, $10\; children 12 and under\, $5.<span _fck_bookmark="1" style="display: none">&nbsp\;</span>
LOCATION:
UID:e.41.4987
SEQUENCE:3
DTSTAMP:20260424T153626Z
URL:https://business.beatricechamber.com/events/details/beatrice-children-s-theatre-production-of-alice-in-wonderland-07-29-2011-4987
END:VEVENT

END:VCALENDAR
