BEGIN:VCALENDAR
VERSION:2.0
PRODID:-//ChamberMaster//Event Calendar 2.0//EN
METHOD:PUBLISH
X-PUBLISHED-TTL:P3D
REFRESH-INTERVAL:P3D
CALSCALE:GREGORIAN
BEGIN:VEVENT
DTSTART;VALUE=DATE:20110731
DTEND;VALUE=DATE:20110801
TRANSP:TRANSPARENT
X-MICROSOFT-CDO-ALLDAYEVENT:TRUE
SUMMARY:Beatrice Children's Theatre Production of "Alice in Wonderland"
DESCRIPTION:2 p.m. and 7:30 p.m.\, Community Players Theatre\, 412 Ella St.\, Beatrice.  Two casts.  Request tickets for the production with your favorite young actors.  Box office:  402-228-1801\, 5-8 p.m.  Tickets: adults\, $10\; children 12 and under\, $5.
X-ALT-DESC;FMTTYPE=text/html:2 p.m. and 7:30 p.m.\, Community Players Theatre\, 412 Ella St.\, Beatrice.&nbsp\; Two casts.&nbsp\; Request tickets for the production with your favorite young actors.&nbsp\; Box office:&nbsp\; 402-228-1801\, 5-8 p.m.&nbsp\; Tickets: adults\, $10\; children 12 and under\, $5.
LOCATION:
UID:e.41.4993
SEQUENCE:3
DTSTAMP:20260424T153626Z
URL:https://business.beatricechamber.com/events/details/beatrice-children-s-theatre-production-of-alice-in-wonderland-07-31-2011-4993
END:VEVENT

END:VCALENDAR
