BEGIN:VCALENDAR
VERSION:2.0
PRODID:-//ChamberMaster//Event Calendar 2.0//EN
METHOD:PUBLISH
X-PUBLISHED-TTL:P3D
REFRESH-INTERVAL:P3D
CALSCALE:GREGORIAN
BEGIN:VEVENT
DTSTART;VALUE=DATE:20110614
DTEND;VALUE=DATE:20110615
TRANSP:TRANSPARENT
X-MICROSOFT-CDO-ALLDAYEVENT:TRUE
SUMMARY:Beatrice Children's Theatre Summer Auditions
DESCRIPTION:Summer Auditions for the production of "Alice in Wonderland" will be held from 9 a.m.-noon or 1-4 p.m. at the Fellowship Hall of Presbyterian Church next to Beatrice Middle School. \n\n	\n\n	Bring a sack lunch and plan to attend both audition days. \n\n	\n\n	Contact Karen Reynolds at 402-656-3036\;  Judy Vrbka at 402-821-2667\;  Greta Pinkerton at 402-228-2489.
X-ALT-DESC;FMTTYPE=text/html:<p>\n	Summer Auditions for the production of &quot\;Alice in Wonderland&quot\; will be held from 9 a.m.-noon or 1-4 p.m. at the Fellowship Hall of Presbyterian Church next to Beatrice Middle School.&nbsp\;<br />\n	<br />\n	Bring a sack lunch and plan to attend both audition days.&nbsp\;<br />\n	<br />\n	Contact Karen Reynolds at 402-656-3036\;&nbsp\; Judy Vrbka at 402-821-2667\;&nbsp\; Greta Pinkerton at 402-228-2489.</p>\n
LOCATION:
UID:e.41.4875
SEQUENCE:3
DTSTAMP:20260424T165907Z
URL:https://business.beatricechamber.com/events/details/beatrice-children-s-theatre-summer-auditions-06-14-2011-4875
END:VEVENT

END:VCALENDAR
