BEGIN:VCALENDAR
VERSION:2.0
PRODID:-//ChamberMaster//Event Calendar 2.0//EN
METHOD:PUBLISH
X-PUBLISHED-TTL:P3D
REFRESH-INTERVAL:P3D
CALSCALE:GREGORIAN
BEGIN:VEVENT
DTSTART;VALUE=DATE:20120416
DTEND;VALUE=DATE:20120421
TRANSP:TRANSPARENT
X-MICROSOFT-CDO-ALLDAYEVENT:TRUE
SUMMARY:Beatrice Clean City Week
DESCRIPTION:Beatrice Clean City Week!\n\nApril 16 - 20\n\n\n\nClick on this link to find out when your neighborhood is scheduled:\n\nhttp://www.beatrice.ne.gov/departments/bpw/street/cleancity.shtml
X-ALT-DESC;FMTTYPE=text/html:Beatrice Clean City Week!<br />\nApril 16 - 20<br />\n<br />\nClick on this link to find out when your neighborhood is scheduled:<a href="http://www.beatrice.ne.gov/departments/bpw/street/cleancity.shtml"><br />\nhttp://www.beatrice.ne.gov/departments/bpw/street/cleancity.shtml</a><span _fck_bookmark="1" style="display: none">&nbsp\;</span>
LOCATION:
UID:e.41.5406
SEQUENCE:3
DTSTAMP:20260422T154905Z
URL:https://business.beatricechamber.com/events/details/beatrice-clean-city-week-04-16-2012-5406
END:VEVENT

END:VCALENDAR
