BEGIN:VCALENDAR
VERSION:2.0
PRODID:-//ChamberMaster//Event Calendar 2.0//EN
METHOD:PUBLISH
X-PUBLISHED-TTL:P3D
REFRESH-INTERVAL:P3D
CALSCALE:GREGORIAN
BEGIN:VEVENT
DTSTART;VALUE=DATE:20120205
DTEND;VALUE=DATE:20120206
TRANSP:TRANSPARENT
X-MICROSOFT-CDO-ALLDAYEVENT:TRUE
SUMMARY:Beatrice Community Hospital Open House
DESCRIPTION:Open house at the new hospital on north highway 77\, doors open for the general public 2:30-5pm\n\n\n\nRibbon Cutting at 3 pm\n\n\n\nRefreshments.  (First patient day at new location is February 15)
X-ALT-DESC;FMTTYPE=text/html:Open house at the new hospital on north highway 77\, doors open for the general public 2:30-5pm<br />\n<br />\nRibbon Cutting at 3 pm<br />\n<br />\nRefreshments.&nbsp\; (First patient day at new location is February 15)
LOCATION:
UID:e.41.5286
SEQUENCE:3
DTSTAMP:20260422T185525Z
URL:https://business.beatricechamber.com/events/details/beatrice-community-hospital-open-house-02-05-2012-5286
END:VEVENT

END:VCALENDAR
