BEGIN:VCALENDAR
VERSION:2.0
PRODID:-//ChamberMaster//Event Calendar 2.0//EN
METHOD:PUBLISH
X-PUBLISHED-TTL:P3D
REFRESH-INTERVAL:P3D
CALSCALE:GREGORIAN
BEGIN:VEVENT
DTSTART;VALUE=DATE:20110616
DTEND;VALUE=DATE:20110617
TRANSP:TRANSPARENT
X-MICROSOFT-CDO-ALLDAYEVENT:TRUE
SUMMARY:Beatrice Country Club to Host Komen Tourney
DESCRIPTION:The Beatrice Country Club will host its fourth annual Rally for the Cure Golf Tournament.  Proceeds go to the Susan G. Komen Breast Cancer Foundation.  For more information\, or to register for the event\, contact the Beatrice Country Club at 402-223-2710.
X-ALT-DESC;FMTTYPE=text/html:The Beatrice Country Club will host its fourth annual Rally for the Cure Golf Tournament.&nbsp\; Proceeds go to the Susan G. Komen Breast Cancer Foundation.&nbsp\; For more information\, or to register for the event\, contact the Beatrice Country Club at 402-223-2710.
LOCATION:
UID:e.41.4860
SEQUENCE:3
DTSTAMP:20260424T165933Z
URL:https://business.beatricechamber.com/events/details/beatrice-country-club-to-host-komen-tourney-06-16-2011-4860
END:VEVENT

END:VCALENDAR
