BEGIN:VCALENDAR
VERSION:2.0
PRODID:-//ChamberMaster//Event Calendar 2.0//EN
METHOD:PUBLISH
X-PUBLISHED-TTL:P3D
REFRESH-INTERVAL:P3D
CALSCALE:GREGORIAN
BEGIN:VEVENT
DTSTART:20110617T180000Z
DTEND:20110617T230000Z
X-MICROSOFT-CDO-ALLDAYEVENT:FALSE
SUMMARY:Beatrice Educational Foundation Golf Classic
DESCRIPTION:The Beatrice Educational Foundation will host its first Golf Classic at the Beatrice Country Club.  This is a fundraiser for scholarships and assistance to Beatrice Public Schools.  Sign up early.  Contact John Brazell at 402 223-1500 for more information.
X-ALT-DESC;FMTTYPE=text/html:The Beatrice Educational Foundation will host its first Golf Classic at the Beatrice Country Club.  This is a fundraiser for scholarships and assistance to Beatrice Public Schools.  Sign up early.  Contact John Brazell at 402 223-1500 for more information.
LOCATION:Beatrice Country Club
UID:e.41.4576
SEQUENCE:3
DTSTAMP:20260424T165536Z
URL:https://business.beatricechamber.com/events/details/beatrice-educational-foundation-golf-classic-06-17-2011-4576
END:VEVENT

END:VCALENDAR
