BEGIN:VCALENDAR
VERSION:2.0
PRODID:-//ChamberMaster//Event Calendar 2.0//EN
METHOD:PUBLISH
X-PUBLISHED-TTL:P3D
REFRESH-INTERVAL:P3D
CALSCALE:GREGORIAN
BEGIN:VEVENT
DTSTART;VALUE=DATE:20120501
DTEND;VALUE=DATE:20120502
TRANSP:TRANSPARENT
X-MICROSOFT-CDO-ALLDAYEVENT:TRUE
SUMMARY:Beatrice Elementary/Middle School anual end of year band concert
DESCRIPTION:7 p.m.\, Hevelone Center for Performing  Arts\, 600 Orange Blvd. Beginning band\, Middle School Jazz Band\, 6th\, 7th\, 8th\, grade bands. No admission\; freewill donation table at the entrance.
X-ALT-DESC;FMTTYPE=text/html:7 p.m.\, Hevelone Center&nbsp\;for Performing&nbsp\; Arts\, 600 Orange Blvd.&nbsp\;Beginning&nbsp\;band\, Middle School Jazz Band\,&nbsp\;6th\,&nbsp\;7th\, 8th\,&nbsp\;grade&nbsp\;bands. No admission\; freewill donation table at the entrance.
LOCATION:
UID:e.41.5491
SEQUENCE:3
DTSTAMP:20260422T142858Z
URL:https://business.beatricechamber.com/events/details/beatrice-elementary-middle-school-anual-end-of-year-band-concert-05-01-2012-5491
END:VEVENT

END:VCALENDAR
