BEGIN:VCALENDAR
VERSION:2.0
PRODID:-//ChamberMaster//Event Calendar 2.0//EN
METHOD:PUBLISH
X-PUBLISHED-TTL:P3D
REFRESH-INTERVAL:P3D
CALSCALE:GREGORIAN
BEGIN:VEVENT
DTSTART:20110201T150000Z
DTEND:20110201T160000Z
X-MICROSOFT-CDO-ALLDAYEVENT:FALSE
SUMMARY:Beatrice First Committee Meeting
DESCRIPTION:Beatrice First Committee Meeting\n\n\n\nFirst Tuesday Every Month\n\n9 a.m. - 10 a.m.\n\n\n\nMeet in Beatrice Area Chamber of Commerce\n\nCity Auditorium Conference Room\, 205 N 4th Street\n\n\n\n(402) 223-2338\n\n\n\nhttp://www.beatricechamber.com/page.do?acid=3&aid=114
X-ALT-DESC;FMTTYPE=text/html:<span style="font-size: 14px"><strong>Beatrice First Committee Meeting</strong><br />\n<br />\nFirst Tuesday Every Month<br />\n9 a.m. - 10 a.m.<br />\n<br />\nMeet in <strong>Beatrice Area Chamber of Commerce</strong><br />\nCity Auditorium Conference Room\, 205 N 4th Street<br />\n<br />\n(402) 223-2338<br />\n<br />\n<a href="http://www.beatricechamber.com/page.do?acid=3&amp\;aid=114">http://www.beatricechamber.com/page.do?acid=3&amp\;aid=114</a></span><br />\n
LOCATION:
UID:e.41.3498
SEQUENCE:3
DTSTAMP:20260424T225643Z
URL:https://business.beatricechamber.com/events/details/beatrice-first-committee-meeting-02-01-2011-3498
END:VEVENT

END:VCALENDAR
