BEGIN:VCALENDAR
VERSION:2.0
PRODID:-//ChamberMaster//Event Calendar 2.0//EN
METHOD:PUBLISH
X-PUBLISHED-TTL:P3D
REFRESH-INTERVAL:P3D
CALSCALE:GREGORIAN
BEGIN:VEVENT
DTSTART:20090804T133000Z
DTEND:20090804T143000Z
X-MICROSOFT-CDO-ALLDAYEVENT:FALSE
SUMMARY:Beatrice First Committee Meeting
DESCRIPTION:
X-ALT-DESC;FMTTYPE=text/html:
LOCATION:Main Street Office
UID:e.41.1324
SEQUENCE:3
DTSTAMP:20260426T011844Z
URL:https://business.beatricechamber.com/events/details/beatrice-first-committee-meeting-08-04-2009-1324
END:VEVENT

END:VCALENDAR
