BEGIN:VCALENDAR
VERSION:2.0
PRODID:-//ChamberMaster//Event Calendar 2.0//EN
METHOD:PUBLISH
X-PUBLISHED-TTL:P3D
REFRESH-INTERVAL:P3D
CALSCALE:GREGORIAN
BEGIN:VEVENT
DTSTART:20091201T150000Z
DTEND:20091201T160000Z
X-MICROSOFT-CDO-ALLDAYEVENT:FALSE
SUMMARY:Beatrice First Committee Meeting
DESCRIPTION:
X-ALT-DESC;FMTTYPE=text/html:
LOCATION:Main Street Office
UID:e.41.1435
SEQUENCE:3
DTSTAMP:20260425T194053Z
URL:https://business.beatricechamber.com/events/details/beatrice-first-committee-meeting-12-01-2009-1435
END:VEVENT

END:VCALENDAR
