BEGIN:VCALENDAR
VERSION:2.0
PRODID:-//ChamberMaster//Event Calendar 2.0//EN
METHOD:PUBLISH
X-PUBLISHED-TTL:P3D
REFRESH-INTERVAL:P3D
CALSCALE:GREGORIAN
BEGIN:VEVENT
DTSTART;VALUE=DATE:20100619
DTEND;VALUE=DATE:20100620
TRANSP:TRANSPARENT
X-MICROSOFT-CDO-ALLDAYEVENT:TRUE
SUMMARY:Beatrice Gun Club Event 6/19/10
DESCRIPTION:Beatrice Gun Club Events Sunday\, June 13Parent/Child Team Event - 25 16-yard targets each and 25 team dutch handicap targets each. Saturday\, June 19Beatrice Gun Club/Hidden Acres Golf CourseFundraiser for the High School Trap TeamFour-person team event with each individual shooting 25 16-yard targets\, 25 team dutch handicap targets and playing 9 holes of golf.  Limited to 16 teams.  Entry fee is $40 per person or $160 per team.    Anyone interested in the fundraiser can contact Steve Hartley at 402-228-0422 or shartley@diodecom.net or Greg Penner at trufan1963@yahoo.com.
X-ALT-DESC;FMTTYPE=text/html:<div><div><span style="font-size: medium">Beatrice Gun Club Events</span></div><div>&nbsp\;</div><div><span style="font-size: medium">Sunday\, June 13</span></div><div><span style="font-size: medium">Parent/Child Team Event - 25 16-yard targets each and 25 team dutch handicap targets each.</span></div><div>&nbsp\;</div><div><span style="font-size: medium">Saturday\, June 19</span></div><div><span style="font-size: medium">Beatrice Gun Club/Hidden Acres Golf Course</span></div><div><span style="font-size: medium">Fundraiser for the High School Trap Team</span></div><div><span style="font-size: medium">Four-person team event with each individual shooting 25 16-yard targets\, 25 team dutch handicap targets and playing 9 holes of golf.&nbsp\;&nbsp\;Limited to 16 teams.&nbsp\; Entry fee is $40 per person or $160 per team.&nbsp\;&nbsp\;&nbsp\;</span></div><div>&nbsp\;</div><div><span style="font-size: medium">Anyone interested in the fundraiser can contact Steve Hartley at 402-228-0422 or </span><a href="mailto:shartley@diodecom.net"><span style="font-size: medium">shartley@diodecom.net</span></a><span style="font-size: medium"> or Greg Penner at </span><a href="mailto:trufan1963@yahoo.com"><span style="font-size: medium">trufan1963@yahoo.com</span></a><span style="font-size: medium">.</span></div><div>&nbsp\;</div><div>&nbsp\;</div><div>&nbsp\;</div><div>&nbsp\;</div></div>
LOCATION:
UID:e.41.2031
SEQUENCE:3
DTSTAMP:20260425T105750Z
URL:https://business.beatricechamber.com/events/details/beatrice-gun-club-event-6-19-10-06-19-2010-2031
END:VEVENT

END:VCALENDAR
