BEGIN:VCALENDAR
VERSION:2.0
PRODID:-//ChamberMaster//Event Calendar 2.0//EN
METHOD:PUBLISH
X-PUBLISHED-TTL:P3D
REFRESH-INTERVAL:P3D
CALSCALE:GREGORIAN
BEGIN:VEVENT
DTSTART:20100328T003000Z
DTEND:20100328T043000Z
X-MICROSOFT-CDO-ALLDAYEVENT:FALSE
SUMMARY:Beatrice Health Expo
DESCRIPTION:Beatrice Health Expo\, "Health Yourself 2010" For adults 18 year and older.  Admission:  Free 7:30 a.m. - 11:30 a.m.Saturday\, March 27\, 2010 Southeast Community College Truman Center Blood chemistry test available for $30Variety of free and reduced price screenings and educational booths\, including blood pressure checks\, breast cancer screenings\, vision/glaucoma screenings and hearing screenings.  Vaccinations include TDAP and pneumonia. Sponsored by the Beatrice Community Hospital Health Expo Committee For more information\, contact Norma-Lou Cook\, health promotion coordinator\, at 402-228-8503.
X-ALT-DESC;FMTTYPE=text/html:<div>Beatrice Health Expo\, &quot\;Health Yourself 2010&quot\;</div><div>&nbsp\;</div><div>For adults 18 year and older.&nbsp\; Admission:&nbsp\; Free</div><div>&nbsp\;</div><div>7:30 a.m. - 11:30 a.m.</div><div>Saturday\, March 27\, 2010</div><div>&nbsp\;</div><div>Southeast Community College Truman Center</div><div>&nbsp\;</div><div>Blood chemistry test available for $30</div><div>Variety of free and reduced price screenings and educational booths\, including blood pressure checks\, breast cancer screenings\, vision/glaucoma screenings and hearing screenings. &nbsp\;Vaccinations include TDAP and pneumonia.</div><div>&nbsp\;</div><div>Sponsored by the Beatrice Community Hospital Health Expo Committee</div><div>&nbsp\;</div><div>For more information\, contact Norma-Lou Cook\, health promotion coordinator\, at 402-228-8503.</div>
LOCATION:
UID:e.41.1681
SEQUENCE:3
DTSTAMP:20260425T153237Z
URL:https://business.beatricechamber.com/events/details/beatrice-health-expo-03-27-2010-1681
END:VEVENT

END:VCALENDAR
