BEGIN:VCALENDAR
VERSION:2.0
PRODID:-//ChamberMaster//Event Calendar 2.0//EN
METHOD:PUBLISH
X-PUBLISHED-TTL:P3D
REFRESH-INTERVAL:P3D
CALSCALE:GREGORIAN
BEGIN:VEVENT
DTSTART:20110409T123000Z
DTEND:20110409T153000Z
X-MICROSOFT-CDO-ALLDAYEVENT:FALSE
SUMMARY:Beatrice Health Expo
DESCRIPTION:Beatrice Community Hospital & Health Center presents:\n\n\n\nBeatrice Health Expo - Health Awareness 2011\n\n\n\nFree Admission\n\n\n\nSaturday\, April 9\n\n7:30 am - 10:30 am\n\n\n\nTruman Center at Southeast Community College\n\n\n\nHealth Screenings for adults over age 18\n\nEducational Booths\n\n\n\nSign up for Drawings!\n\n\n\nCoffee & Donuts - Freewill Donation tot he Beatrice School Backpack Food Program\n\n\n\nNo pre-registration required.  For more information contact: Norma-Lou Cook (402)228-8503
X-ALT-DESC;FMTTYPE=text/html:Beatrice Community Hospital &amp\; Health Center presents:<br />\n<br />\n<span style="font-size: 16px">Beatrice Health Expo - Health Awareness 2011</span><br />\n<br />\nFree Admission<br />\n<br />\nSaturday\, April 9<br />\n7:30 am - 10:30 am<br />\n<br />\nTruman Center at Southeast Community College<br />\n<br />\nHealth Screenings for adults over age 18<br />\nEducational Booths<br />\n<br />\nSign up for Drawings!<br />\n<br />\nCoffee &amp\; Donuts - Freewill Donation tot he Beatrice School Backpack Food Program<br />\n<br />\nNo pre-registration required.&nbsp\; For more information contact: Norma-Lou Cook (402)228-8503
LOCATION:
UID:e.41.4419
SEQUENCE:3
DTSTAMP:20260424T195935Z
URL:https://business.beatricechamber.com/events/details/beatrice-health-expo-04-09-2011-4419
END:VEVENT

END:VCALENDAR
