BEGIN:VCALENDAR
VERSION:2.0
PRODID:-//ChamberMaster//Event Calendar 2.0//EN
METHOD:PUBLISH
X-PUBLISHED-TTL:P3D
REFRESH-INTERVAL:P3D
CALSCALE:GREGORIAN
BEGIN:VEVENT
DTSTART;VALUE=DATE:20120421
DTEND;VALUE=DATE:20120422
TRANSP:TRANSPARENT
X-MICROSOFT-CDO-ALLDAYEVENT:TRUE
SUMMARY:Beatrice Health Fair
DESCRIPTION:Beatrice Health Fair!\n\n	Health Yourself 2012\n\n	\n\n	Free Admission\n\n	\n\n	Saturday\, April 21 7:30 am - 10:30 am\n\n	\n\n	Beatrice Armed Forces Reserves Center\n\n	\n\n	Health screening for adults over age 18
X-ALT-DESC;FMTTYPE=text/html:<p>\n	Beatrice Health&nbsp\;Fair!</p>\n<p>\n	Health Yourself 2012<br />\n	<br />\n	Free Admission<br />\n	<br />\n	Saturday\,&nbsp\;April 21 7:30 am&nbsp\;- 10:30&nbsp\;am<br />\n	<br />\n	Beatrice Armed&nbsp\;Forces Reserves Center<br />\n	<br />\n	Health screening for adults over&nbsp\;age 18</p>\n
LOCATION:
UID:e.41.5486
SEQUENCE:3
DTSTAMP:20260422T154836Z
URL:https://business.beatricechamber.com/events/details/beatrice-health-fair-04-21-2012-5486
END:VEVENT

END:VCALENDAR
